Workbook

Sheet Historical
A1: Historical Gold Prices ($/Ounce) | E1: USD-INR | G1: Gold Price | O1: Net
A2: Year | B2: Avg Closing Rate | C2: Returns in USD terms | E2: Closing Rate | G2: Net Price in INR | I2: Return in INR terms | K2: FD Rates for Tenor 5Yrs+ | L2: Tax adjusted returns @20% | M2: FD Balance* | O2: Gold-FD Returns | P2: SGB-FD Returns (+2.5%p.a)
A3: 2022 | B3: 1801.87 | C3: =(B3-B4)/B4 -> 0.0016565771 | E3: 78.474383 | G3: =B3*E3 -> 141400.64 | I3: =(G3-G4)/G4 -> 0.064723361 | K3: 5.275 | L3: =K3*0.8% -> 0.0422 | M3: =M4+(M4*L3) -> 48295.693 | O3: =I3-L3 -> 0.022523361 | P3: =O3+2.5% -> 0.047523361
A4: 2021 | B4: 1798.89 | C4: =(B4-B5)/B5 -> 0.014184797 | E4: 73.826108 | G4: =B4*E4 -> 132805.05 | I4: =(G4-G5)/G5 -> 0.011932741 | K4: 5.375 | L4: =K4*0.8% -> 0.043 | M4: =M5+(M5*L4) -> 46340.14 | O4: =I4-L4 -> -0.031067259 | P4: =O4+2.5% -> -0.0060672592
A5: 2020 | B5: 1773.73 | C5: =(B5-B6)/B6 -> 0.27300587 | E5: 73.990408 | G5: =B5*E5 -> 131239.01 | I5: =(G5-G6)/G6 -> 0.33882655 | K5: 6.05 | L5: =K5*0.8% -> 0.0484 | M5: =M6+(M6*L5) -> 44429.664 | O5: =I5-L5 -> 0.29042655 | P5: =O5+2.5% -> 0.31542655
A6: 2019 | B6: 1393.34 | C6: =(B6-B7)/B7 -> 0.098043233 | E6: 70.352821 | G6: =B6*E6 -> 98025.399 | I6: =(G6-G7)/G7 -> 0.13161204 | K6: 6.75 | L6: =K6*0.8% -> 0.054 | M6: =M7+(M7*L6) -> 42378.543 | O6: =I6-L6 -> 0.077612039 | P6: =O6+2.5% -> 0.10261204
A7: 2018 | B7: 1268.93 | C7: =(B7-B8)/B8 -> 0.0067756805 | E7: 68.265833 | G7: =B7*E7 -> 86624.564 | I7: =(G7-G8)/G8 -> 0.055730429 | K7: 6.5 | L7: =K7*0.8% -> 0.052 | M7: =M8+(M8*L7) -> 40207.346 | O7: =I7-L7 -> 0.0037304285 | P7: =O7+2.5% -> 0.028730429
A8: 2017 | B8: 1260.39 | C8: =(B8-B9)/B9 -> 0.006765608 | E8: 65.100313 | G8: =B8*E8 -> 82051.783 | I8: =(G8-G9)/G9 -> -0.024621707 | K8: 7.15 | L8: =K8*0.8% -> 0.0572 | M8: =M9+(M9*L8) -> 38219.911 | O8: =I8-L8 -> -0.081821707 | P8: =O8+2.5% -> -0.056821707
A9: 2016 | B9: 1251.92 | C9: =(B9-B10)/B10 -> 0.080303056 | E9: 67.195217 | G9: =B9*E9 -> 84123.036 | I9: =(G9-G10)/G10 -> 0.1313116 | K9: 7.15 | L9: =K9*0.8% -> 0.0572 | M9: =M10+(M10*L9) -> 36152.015 | O9: =I9-L9 -> 0.074111599 | P9: =O9+2.5% -> 0.099111599
A10: 2015 | B10: 1158.86 | C10: =(B10-B11)/B11 -> -0.084672132 | E10: 64.165521 | G10: =B10*E10 -> 74358.855 | I10: =(G10-G11)/G11 -> -0.038033082 | K10: 8.375 | L10: =K10*0.8% -> 0.067 | M10: =M11+(M11*L10) -> 34196.004 | O10: =I10-L10 -> -0.10503308 | P10: =O10+2.5% -> -0.080033082
A11: 2014 | B11: 1266.06 | C11: =(B11-B12)/B12 -> -0.10177296 | E11: 61.054583 | G11: =B11*E11 -> 77298.766 | I11: =(G11-G12)/G12 -> -0.064325811 | K11: 8.8 | L11: =K11*0.8% -> 0.0704 | M11: =M12+(M12*L11) -> 32048.738 | O11: =I11-L11 -> -0.13472581 | P11: =O11+2.5% -> -0.10972581
A12: 2013 | B12: 1409.51 | C12: =(B12-B13)/B13 -> -0.15540549 | E12: 58.611083 | G12: =B12*E12 -> 82612.908 | I12: =(G12-G13)/G13 -> -0.071615924 | K12: 8.75 | L12: =K12*0.8% -> 0.07 | M12: =M13+(M13*L12) -> 29940.899 | O12: =I12-L12 -> -0.14161592 | P12: =O12+2.5% -> -0.11661592
A13: 2012 | B13: 1668.86 | C13: =(B13-B14)/B14 -> 0.060832973 | E13: 53.32125 | G13: =B13*E13 -> 88985.701 | I13: =(G13-G14)/G14 -> 0.21444801 | K13: 8.875 | L13: =K13*0.8% -> 0.071 | M13: =M14+(M14*L13) -> 27982.149 | O13: =I13-L13 -> 0.14344801 | P13: =O13+2.5% -> 0.16844801
A14: 2011 | B14: 1573.16 | C14: =(B14-B15)/B15 -> 0.28247436 | E14: 46.576667 | G14: =B14*E14 -> 73272.549 | I14: =(G14-G15)/G15 -> 0.30582606 | K14: 7.375 | L14: =K14*0.8% -> 0.059 | M14: =M15+(M15*L14) -> 26127.123 | O14: =I14-L14 -> 0.24682606 | P14: =O14+2.5% -> 0.27182606
... A39: 1986 | B39: 368.2 | C39: =(B39-B40)/B40 -> 0.15997732 | E39: 12.558333 | G39: =B39*E39 -> 4623.9783 | I39: =(G39-G40)/G40 -> 0.19119988 | K39: 11 | L39: =K39*0.8% -> 0.088 | M39: =M40+(M40*L39) -> 4223.3789 | O39: =I39-L39 -> 0.10319988 | P39: =O39+2.5% -> 0.12819988
A40: 1985 | B40: 317.42 | C40: - | E40: 12.229167 | G40: =B40*E40 -> 3881.7821 | K40: 11 | L40: =K40*0.8% -> 0.088 | M40: 3881.7821
O41: =AVERAGE(O3:O39) -> 0.037822645 | P41: =AVERAGE(P3:P39) -> 0.062822645
K42: * Assuming opening balance equal to INR Gold Price in 1985 | O42: Average Returns

Sheet 8 Year Comparison
B1: Rolling 8 year period | C1: Return on Gold Prices (INR) | D1: Return on Deposits | E1: Return on SGB | F1: Gold Vs FD | G1: SGB Vs FD
B2: 2014-2022 | C2: =(Historical!G3-Historical!G11)/Historical!G11 -> 0.82927419 | D2: =(Historical!M3-Historical!M11)/Historical!M11 -> 0.50694523 | E2: =C2+20% -> 1.0292742 | F2: =IF((D2<C2), "Gold", "FD") -> Gold | G2: =IF((E2>D2), "SGB", "FD") -> SGB | I2: =E2-D2 -> 0.52232896
B3: 2013-2021 | C3: =(Historical!G4-Historical!G12)/Historical!G12 -> 0.60755808 | D3: =(Historical!M4-Historical!M12)/Historical!M12 -> 0.54772038 | E3: =C3+20% -> 0.80755808 | F3: =IF((D3<C3), "Gold", "FD") -> Gold | G3: =IF((E3>D3), "SGB", "FD") -> SGB | I3: =E3-D3 -> 0.25983771
B4: 2012-2020 | C4: =(Historical!G5-Historical!G13)/Historical!G13 -> 0.47483253 | D4: =(Historical!M5-Historical!M13)/Historical!M13 -> 0.587786 | E4: =C4+20% -> 0.67483253 | F4: =IF((D4<C4), "Gold", "FD") -> FD | G4: =IF((E4>D4), "SGB", "FD") -> SGB | I4: =E4-D4 -> 0.087046526
B5: 2011-2019 | C5: =(Historical!G6-Historical!G14)/Historical!G14 -> 0.33781888 | D5: =(Historical!M6-Historical!M14)/Historical!M14 -> 0.62201336 | E5: =C5+20% -> 0.53781888 | F5: =IF((D5<C5), "Gold", "FD") -> FD | G5: =IF((E5>D5), "SGB", "FD") -> FD | I5: =E5-D5 -> -0.084194483
B6: 2010-2018 | C6: =(Historical!G7-Historical!G15)/Historical!G15 -> 0.54377887 | D6: =(Historical!M7-Historical!M15)/Historical!M15 -> 0.62970792 | E6: =C6+20% -> 0.74377887 | F6: =IF((D6<C6), "Gold", "FD") -> FD | G6: =IF((E6>D6), "SGB", "FD") -> SGB | I6: =E6-D6 -> 0.11407095
B7: 2009-2017 | C7: =(Historical!G8-Historical!G16)/Historical!G16 -> 0.73854235 | D7: =(Historical!M8-Historical!M16)/Historical!M16 -> 0.63590453 | E7: =C7+20% -> 0.93854235 | F7: =IF((D7<C7), "Gold", "FD") -> Gold | G7: =IF((E7>D7), "SGB", "FD") -> SGB | I7: =E7-D7 -> 0.30263782
B8: 2008-2016 | C8: =(Historical!G9-Historical!G17)/Historical!G17 -> 1.2153491 | D8: =(Historical!M9-Historical!M17)/Historical!M17 -> 0.6479742 | E8: =C8+20% -> 1.4153491 | F8: =IF((D8<C8), "Gold", "FD") -> Gold | G8: =IF((E8>D8), "SGB", "FD") -> SGB | I8: =E8-D8 -> 0.76737491
B9: 2007-2015 | C9: =(Historical!G10-Historical!G18)/Historical!G18 -> 1.5828683 | D9: =(Historical!M10-Historical!M18)/Historical!M18 -> 0.66169173 | E9: =C9+20% -> 1.7828683 | F9: =IF((D9<C9), "Gold", "FD") -> Gold | G9: =IF((E9>D9), "SGB", "FD") -> SGB | I9: =E9-D9 -> 1.1211766
B10: 2006-2014 | C10: =(Historical!G11-Historical!G19)/Historical!G19 -> 1.823225 | D10: =(Historical!M11-Historical!M19)/Historical!M19 -> 0.66169173 | E10: =C10+20% -> 2.023225 | F10: =IF((D10<C10), "Gold", "FD") -> Gold | G10: =IF((E10>D10), "SGB", "FD") -> SGB | I10: =E10-D10 -> 1.3615332
B11: 2005-2013 | C11: =(Historical!G12-Historical!G20)/Historical!G20 -> 3.2163499 | D11: =(Historical!M12-Historical!M20)/Historical!M20 -> 0.63467993 | E11: =C11+20% -> 3.4163499 | F11: =IF((D11<C11), "Gold", "FD") -> Gold | G11: =IF((E11>D11), "SGB", "FD") -> SGB | I11: =E11-D11 -> 2.78167
B12: 2004-2012 | C12: =(Historical!G13-Historical!G21)/Historical!G21 -> 3.8092734 | D12: =(Historical!M13-Historical!M21)/Historical!M21 -> 0.60106969 | E12: =C12+20% -> 4.0092734 | F12: =IF((D12<C12), "Gold", "FD") -> Gold | G12: =IF((E12>D12), "SGB", "FD") -> SGB | I12: =E12-D12 -> 3.4082037
B13: 2003-2011 | C13: =(Historical!G14-Historical!G22)/Historical!G22 -> 3.3223409 | D13: =(Historical!M14-Historical!M22)/Historical!M22 -> 0.55921166 | E13: =C13+20% -> 3.5223409 | F13: =IF((D13<C13), "Gold", "FD") -> Gold | G13: =IF((E13>D13), "SGB", "FD") -> SGB | I13: =E13-D13 -> 2.9631292
... B31: 1985-1993 | C31: =(Historical!G32-Historical!G40)/Historical!G40 -> 1.9019878 | D31: =(Historical!M32-Historical!M40)/Historical!M40 -> 0.94874907 | E31: =C31+20% -> 2.1019878 | F31: =IF((D31<C31), "Gold", "FD") -> Gold | G31: =IF((E31>D31), "SGB", "FD") -> SGB | I31: =E31-D31 -> 1.1532388
I32: =AVERAGE(I2:I31) -> 0.74604375
